BEGIN:VCALENDAR
VERSION:2.0
PRODID:-//hacksw/handcal//NONSGML v1.0//EN
BEGIN:VEVENT
SUMMARY:Match U11-2 Mixte contre MENITRE - 1
UID:f4077865-e6b0-49de-9a40-da88cfef46de
DTSTART:20260424T220000Z
DTEND:20260425T220000Z
LOCATION:Localisation SALLE JOSEPH PESSARD  
CATEGORIES:Sportif
STATUS:
URL;VALUE=URI:https://mjb49.sportsregions.fr/evenements/2026/04/25/match-u11-2-mixte-contre-menitre-1-2389843
END:VEVENT
END:VCALENDAR
