BEGIN:VCALENDAR
VERSION:2.0
PRODID:-//hacksw/handcal//NONSGML v1.0//EN
BEGIN:VEVENT
SUMMARY:Match U18M-1 contre CHAMPIGNE
UID:9ec3ed0f-9b8c-4346-99f4-fdbb578805ab
DTSTART:20260411T220000Z
DTEND:20260412T220000Z
LOCATION:Localisation   
CATEGORIES:Sportif
STATUS:
URL;VALUE=URI:https://mjb49.sportsregions.fr/evenements/2026/04/12/match-u18m-1-contre-champigne-2378766
END:VEVENT
END:VCALENDAR
