BEGIN:VCALENDAR
VERSION:2.0
PRODID:-//hacksw/handcal//NONSGML v1.0//EN
BEGIN:VEVENT
SUMMARY:Match U15M-2 contre TIERCE - 1
UID:86a1b720-4ebf-47fe-ae1c-459680aa4c9e
DTSTART:20260411T220000Z
DTEND:20260412T220000Z
LOCATION:Localisation   
CATEGORIES:Sportif
STATUS:
URL;VALUE=URI:https://mjb49.sportsregions.fr/evenements/2026/04/12/match-u15m-2-contre-tierce-1-2378756
END:VEVENT
END:VCALENDAR
