BEGIN:VCALENDAR
VERSION:2.0
PRODID:-//hacksw/handcal//NONSGML v1.0//EN
BEGIN:VEVENT
SUMMARY:Match U13M-2 contre ECOUFLANT - 2
UID:7a1e6a06-9b74-4b97-8b61-c8d283ac874a
DTSTART:20260411T220000Z
DTEND:20260412T220000Z
LOCATION:Localisation   
CATEGORIES:Sportif
STATUS:
URL;VALUE=URI:https://mjb49.sportsregions.fr/evenements/2026/04/12/match-u13m-2-contre-ecouflant-2-2378743
END:VEVENT
END:VCALENDAR
